BEGIN:VCALENDAR
VERSION:2.0
PRODID:-//wp-events-plugin.com//7.2.3.1//EN
TZID:America/Los_Angeles
X-WR-TIMEZONE:America/Los_Angeles
BEGIN:VEVENT
UID:31@tacotuesday.com
DTSTART;TZID=America/Denver:20260618T000000
DTEND;TZID=America/Denver:20260618T000000
DTSTAMP:20251229T175733Z
URL:https://tacotuesday.com/events/top-taco-denver/
SUMMARY:Top Taco Denver
DESCRIPTION:Top Taco Denver\nA Taco Extravaganza\nJoin us for an unforgetta
 ble culinary event and indulge in a flavorful fiesta with over 60 restaura
 nts presenting their unique gourmet taco creations\, from traditional clas
 sics to innovative fusion masterpieces\, offering unlimited samples to cel
 ebrate taco excellence and culinary innovation.\n\n 	Unlimited Gourmet Tac
 os from 60+ Restaurants\n 	Live Music.\n 	Lucha Libre Wrestling\n 	People
 ’s Choice Vote For The G.O.A.T. (Greatest Of All Tacos)\n 	Goat petting
 … Exactly What It Sounds Like\n\nFiesta In A Glass\nOver 50+ distinguish
 ed spirit brands await\, showcasing an exquisite array of over a hundred t
 equilas and mezcals. Immerse yourself in interactive tasting zones\, luxur
 ious lounges\, and imaginative pop-up bars\, all meticulously crafted to o
 ffer an unparalleled sampling experience of Mexico’s most revered export
 s.\n\n 	All-Inclusive Spirit Tasting\n 	Tequila and Mezcal Sampling\n 	Ice
  Cold Estrella Jalisco Beer\n 	Unlimited Non-Alcoholic Pepsi Products\n 	W
 ater Stations\n 	Peoples Choice Cocktail Vote\n
ATTACH;FMTTYPE=image/jpeg:https://tacotuesday.com/wp-content/uploads/2025/
 12/Top-Tacp.jpg
CATEGORIES:Festival
LOCATION:https://denver.toptaco.com/
END:VEVENT
BEGIN:VTIMEZONE
TZID:America/Denver
X-LIC-LOCATION:America/Denver
BEGIN:DAYLIGHT
DTSTART:20260308T030000
TZOFFSETFROM:-0700
TZOFFSETTO:-0600
TZNAME:MDT
END:DAYLIGHT
END:VTIMEZONE
END:VCALENDAR