BEGIN:VCALENDAR
VERSION:2.0
PRODID:-//wp-events-plugin.com//7.2.3.1//EN
TZID:America/Los_Angeles
X-WR-TIMEZONE:America/Los_Angeles
BEGIN:VEVENT
UID:33@tacotuesday.com
DTSTART;TZID=America/Nassau:20260228T100000
DTEND;TZID=America/Nassau:20260228T180000
DTSTAMP:20251229T181113Z
URL:https://tacotuesday.com/events/tampa-taco-fest/
SUMMARY:Tampa Taco Fest
DESCRIPTION:Enjoy Tampa's best tacos from 30+ local food vendors\, refreshi
 ng margaritas and live entertainment at Tampa Taco Fest.\n\nTaste your way
  through Tampa’s best tacos\, from authentic favorites to fun fusion fla
 vors.\n\nA Margarita a day keeps the doctor away – that’s the saying\,
  right? Whether you like salt rims\, sweet flavors or spicy surprises\, we
  have a Margarita for you.\n\nGet your tickets
ATTACH;FMTTYPE=image/jpeg:https://tacotuesday.com/wp-content/uploads/2025/
 12/Tampa-Taco-Fest.jpg
CATEGORIES:Festival
LOCATION:Al Lopez Park\, 4810 N Himes Ave\, Tampa\, FL\, 33614\, United Sta
 tes
X-APPLE-STRUCTURED-LOCATION;VALUE=URI;X-ADDRESS=4810 N Himes Ave\, Tampa\, 
 FL\, 33614\, United States;X-APPLE-RADIUS=100;X-TITLE=Al Lopez Park:geo:0,
 0
END:VEVENT
BEGIN:VTIMEZONE
TZID:America/Nassau
X-LIC-LOCATION:America/Nassau
BEGIN:STANDARD
DTSTART:20251102T010000
TZOFFSETFROM:-0400
TZOFFSETTO:-0500
TZNAME:EST
END:STANDARD
END:VTIMEZONE
END:VCALENDAR