BEGIN:VCALENDAR
VERSION:2.0
PRODID:-//wp-events-plugin.com//7.2.3.1//EN
TZID:America/Los_Angeles
X-WR-TIMEZONE:America/Los_Angeles
BEGIN:VEVENT
UID:16@tacotuesday.com
DTSTART;TZID=America/Chicago;VALUE=DATE:20251007
DTEND;TZID=America/Chicago;VALUE=DATE:20251008
DTSTAMP:20250926T012642Z
URL:https://tacotuesday.com/events/free-tacos-on-national-taco-day/
SUMMARY:FREE TACOS on National Taco Day!
DESCRIPTION:SieteFoods is partnering with Tacotlán and taquerías across t
 he nation to celebrate National Taco Day on Tuesday\, October 7\, 2025. To
 gether\, we’re inviting the community to enjoy one FREE taco per person 
 — because juntos es mejor (together is better). 💛\nThis isn’t just 
 about tacos\, it’s about giving back. Siete Foods is helping communities
  like ours by literally picking up the tab for your taco on Taco Day.
ATTACH;FMTTYPE=image/jpeg:https://tacotuesday.com/wp-content/uploads/2025/
 09/Tacotlan-National-Taco-Day-e1758824791654.jpg
CATEGORIES:Holiday
LOCATION:Tacotlán\, 4312 W Fullerton Ave\, Chicago\, IL\, 60639\, United S
 tates
X-APPLE-STRUCTURED-LOCATION;VALUE=URI;X-ADDRESS=4312 W Fullerton Ave\, Chic
 ago\, IL\, 60639\, United States;X-APPLE-RADIUS=100;X-TITLE=Tacotlán:geo:
 0,0
END:VEVENT
BEGIN:VTIMEZONE
TZID:America/Chicago
X-LIC-LOCATION:America/Chicago
BEGIN:DAYLIGHT
DTSTART:20250309T030000
TZOFFSETFROM:-0600
TZOFFSETTO:-0500
TZNAME:CDT
END:DAYLIGHT
END:VTIMEZONE
END:VCALENDAR